Package: MSstats Version: 4.10.1 Command: /Library/Frameworks/R.framework/Resources/bin/R CMD INSTALL MSstats StartedAt: 2024-04-16 11:58:14 -0400 (Tue, 16 Apr 2024) EndedAt: 2024-04-16 11:59:01 -0400 (Tue, 16 Apr 2024) EllapsedTime: 46.1 seconds RetCode: 0 Status: OK