Package: Maaslin2 Version: 1.16.0 Command: /Library/Frameworks/R.framework/Resources/bin/R CMD build --keep-empty-dirs --no-resave-data Maaslin2 StartedAt: 2024-04-16 20:54:34 -0400 (Tue, 16 Apr 2024) EndedAt: 2024-04-16 20:56:34 -0400 (Tue, 16 Apr 2024) EllapsedTime: 119.9 seconds RetCode: 0 Status: OK PackageFile: Maaslin2_1.16.0.tar.gz PackageFileSize: 544.4 KiB