Package: Macarron Version: 1.6.0 Command: rm -rf Macarron.buildbin-libdir && mkdir Macarron.buildbin-libdir && /Users/biocbuild/BBS/utils/build-universal.sh Macarron_1.6.0.tar.gz /Library/Frameworks/R.framework/Resources/bin/R Macarron.buildbin-libdir StartedAt: 2024-04-18 09:54:21 -0400 (Thu, 18 Apr 2024) EndedAt: 2024-04-18 09:54:53 -0400 (Thu, 18 Apr 2024) EllapsedTime: 31.9 seconds RetCode: 0 Status: OK PackageFile: Macarron_1.6.0.tgz PackageFileSize: 640.4 KiB