Package: MassSpecWavelet Version: 1.68.0 Command: rm -rf MassSpecWavelet.buildbin-libdir && mkdir MassSpecWavelet.buildbin-libdir && /Users/biocbuild/BBS/utils/build-universal.sh MassSpecWavelet_1.68.0.tar.gz /Library/Frameworks/R.framework/Resources/bin/R MassSpecWavelet.buildbin-libdir StartedAt: 2024-04-18 09:57:10 -0400 (Thu, 18 Apr 2024) EndedAt: 2024-04-18 09:57:18 -0400 (Thu, 18 Apr 2024) EllapsedTime: 8.1 seconds RetCode: 0 Status: OK PackageFile: MassSpecWavelet_1.68.0.tgz PackageFileSize: 2.165 MiB