Package: MassSpecWavelet Version: 1.68.0 Command: /Library/Frameworks/R.framework/Resources/bin/R CMD build --keep-empty-dirs --no-resave-data MassSpecWavelet StartedAt: 2024-04-16 21:05:06 -0400 (Tue, 16 Apr 2024) EndedAt: 2024-04-16 21:06:10 -0400 (Tue, 16 Apr 2024) EllapsedTime: 64.1 seconds RetCode: 0 Status: OK PackageFile: MassSpecWavelet_1.68.0.tar.gz PackageFileSize: 2.084 MiB