Package: Melissa Version: 1.18.0 Command: rm -rf Melissa.buildbin-libdir && mkdir Melissa.buildbin-libdir && /Users/biocbuild/BBS/utils/build-universal.sh Melissa_1.18.0.tar.gz /Library/Frameworks/R.framework/Resources/bin/R Melissa.buildbin-libdir StartedAt: 2024-04-18 09:59:55 -0400 (Thu, 18 Apr 2024) EndedAt: 2024-04-18 10:00:30 -0400 (Thu, 18 Apr 2024) EllapsedTime: 35.1 seconds RetCode: 0 Status: OK PackageFile: Melissa_1.18.0.tgz PackageFileSize: 4.344 MiB