Package: Melissa Version: 1.18.0 Command: /Library/Frameworks/R.framework/Resources/bin/R CMD build --keep-empty-dirs --no-resave-data Melissa StartedAt: 2024-04-16 21:13:55 -0400 (Tue, 16 Apr 2024) EndedAt: 2024-04-16 21:16:57 -0400 (Tue, 16 Apr 2024) EllapsedTime: 181.9 seconds RetCode: 0 Status: OK PackageFile: Melissa_1.18.0.tar.gz PackageFileSize: 2.883 MiB