Package: Melissa Version: 1.18.0 Command: /Library/Frameworks/R.framework/Resources/bin/R CMD check --install=check:Melissa.install-out.txt --library=/Library/Frameworks/R.framework/Resources/library --no-vignettes --timings Melissa_1.18.0.tar.gz StartedAt: 2024-04-17 18:35:42 -0400 (Wed, 17 Apr 2024) EndedAt: 2024-04-17 18:38:35 -0400 (Wed, 17 Apr 2024) EllapsedTime: 172.6 seconds RetCode: 0 Status: OK CheckDir: Melissa.Rcheck Warnings: 0