Package: MesKit Version: 1.12.0 Command: /Library/Frameworks/R.framework/Resources/bin/R CMD check --install=check:MesKit.install-out.txt --library=/Library/Frameworks/R.framework/Resources/library --no-vignettes --timings MesKit_1.12.0.tar.gz StartedAt: 2024-04-17 18:39:32 -0400 (Wed, 17 Apr 2024) EndedAt: 2024-04-17 18:48:36 -0400 (Wed, 17 Apr 2024) EllapsedTime: 543.7 seconds RetCode: 0 Status: WARNINGS CheckDir: MesKit.Rcheck Warnings: 1