Package: MetID Version: 1.20.0 Command: /Library/Frameworks/R.framework/Resources/bin/R CMD check --install=check:MetID.install-out.txt --library=/Library/Frameworks/R.framework/Resources/library --no-vignettes --timings MetID_1.20.0.tar.gz StartedAt: 2024-04-17 19:15:29 -0400 (Wed, 17 Apr 2024) EndedAt: 2024-04-17 19:17:06 -0400 (Wed, 17 Apr 2024) EllapsedTime: 97.2 seconds RetCode: 0 Status: OK CheckDir: MetID.Rcheck Warnings: 0