Package: MetaboSignal Version: 1.32.1 Command: rm -rf MetaboSignal.buildbin-libdir && mkdir MetaboSignal.buildbin-libdir && /Users/biocbuild/BBS/utils/build-universal.sh MetaboSignal_1.32.1.tar.gz /Library/Frameworks/R.framework/Resources/bin/R MetaboSignal.buildbin-libdir StartedAt: 2024-04-18 10:00:57 -0400 (Thu, 18 Apr 2024) EndedAt: 2024-04-18 10:02:30 -0400 (Thu, 18 Apr 2024) EllapsedTime: 93.7 seconds RetCode: 0 Status: OK PackageFile: MetaboSignal_1.32.1.tgz PackageFileSize: 2.663 MiB