Package: MiRaGE Version: 1.44.0 Command: rm -rf MiRaGE.buildbin-libdir && mkdir MiRaGE.buildbin-libdir && /Users/biocbuild/BBS/utils/build-universal.sh MiRaGE_1.44.0.tar.gz /Library/Frameworks/R.framework/Resources/bin/R MiRaGE.buildbin-libdir StartedAt: 2024-04-18 10:08:31 -0400 (Thu, 18 Apr 2024) EndedAt: 2024-04-18 10:08:52 -0400 (Thu, 18 Apr 2024) EllapsedTime: 21.7 seconds RetCode: 0 Status: OK PackageFile: MiRaGE_1.44.0.tgz PackageFileSize: 1.352 MiB