Package: MiRaGE Version: 1.44.0 Command: /Library/Frameworks/R.framework/Resources/bin/R CMD INSTALL MiRaGE StartedAt: 2024-04-16 10:37:25 -0400 (Tue, 16 Apr 2024) EndedAt: 2024-04-16 10:37:42 -0400 (Tue, 16 Apr 2024) EllapsedTime: 16.5 seconds RetCode: 0 Status: OK