Package: NBAMSeq Version: 1.18.0 Command: rm -rf NBAMSeq.buildbin-libdir && mkdir NBAMSeq.buildbin-libdir && /Users/biocbuild/BBS/utils/build-universal.sh NBAMSeq_1.18.0.tar.gz /Library/Frameworks/R.framework/Resources/bin/R NBAMSeq.buildbin-libdir StartedAt: 2024-04-18 10:21:43 -0400 (Thu, 18 Apr 2024) EndedAt: 2024-04-18 10:22:29 -0400 (Thu, 18 Apr 2024) EllapsedTime: 45.5 seconds RetCode: 0 Status: OK PackageFile: NBAMSeq_1.18.0.tgz PackageFileSize: 403.5 KiB