Package: NBAMSeq Version: 1.18.0 Command: /Library/Frameworks/R.framework/Resources/bin/R CMD check --install=check:NBAMSeq.install-out.txt --library=/Library/Frameworks/R.framework/Resources/library --no-vignettes --timings NBAMSeq_1.18.0.tar.gz StartedAt: 2024-04-17 21:14:17 -0400 (Wed, 17 Apr 2024) EndedAt: 2024-04-17 21:18:31 -0400 (Wed, 17 Apr 2024) EllapsedTime: 253.9 seconds RetCode: 0 Status: OK CheckDir: NBAMSeq.Rcheck Warnings: 0