Package: NanoMethViz Version: 2.8.1 Command: rm -rf NanoMethViz.buildbin-libdir && mkdir NanoMethViz.buildbin-libdir && /Users/biocbuild/BBS/utils/build-universal.sh NanoMethViz_2.8.1.tar.gz /Library/Frameworks/R.framework/Resources/bin/R NanoMethViz.buildbin-libdir StartedAt: 2024-04-18 10:20:51 -0400 (Thu, 18 Apr 2024) EndedAt: 2024-04-18 10:22:29 -0400 (Thu, 18 Apr 2024) EllapsedTime: 98.3 seconds RetCode: 0 Status: OK PackageFile: NanoMethViz_2.8.1.tgz PackageFileSize: 6.48 MiB