Package: Nebulosa
Version: 1.12.1
Maintainer: Jose Alquicira-Hernandez
MaintainerEmail: alquicirajose at gmail.com
git_url: https://git.bioconductor.org/packages/Nebulosa
git_branch: RELEASE_3_18
git_last_commit: a0f8110
git_last_commit_date: 2024-03-01 15:30:16 -0400 (Fri, 01 Mar 2024)