Package: NetSAM Version: 1.42.0 Maintainer: Zhiao Shi MaintainerEmail: zhiao.shi at gmail.com git_url: https://git.bioconductor.org/packages/NetSAM git_branch: RELEASE_3_18 git_last_commit: bf514af git_last_commit_date: 2024-04-03 16:35:11 -0400 (Wed, 03 Apr 2024)