Package: OncoSimulR Version: 4.4.0 Command: /Library/Frameworks/R.framework/Resources/bin/R CMD build --keep-empty-dirs --no-resave-data OncoSimulR StartedAt: 2024-04-16 23:10:59 -0400 (Tue, 16 Apr 2024) EndedAt: 2024-04-16 23:14:42 -0400 (Tue, 16 Apr 2024) EllapsedTime: 223.4 seconds RetCode: 1 Status: ERROR PackageFile: None PackageFileSize: NA