Package: OrderedList Version: 1.74.0 Command: /Library/Frameworks/R.framework/Resources/bin/R CMD check --install=check:OrderedList.install-out.txt --library=/Library/Frameworks/R.framework/Resources/library --no-vignettes --timings OrderedList_1.74.0.tar.gz StartedAt: 2024-04-17 22:07:03 -0400 (Wed, 17 Apr 2024) EndedAt: 2024-04-17 22:07:40 -0400 (Wed, 17 Apr 2024) EllapsedTime: 36.9 seconds RetCode: 0 Status: OK CheckDir: OrderedList.Rcheck Warnings: 0