Package: OutSplice Version: 1.2.0 Command: rm -rf OutSplice.buildbin-libdir && mkdir OutSplice.buildbin-libdir && /Users/biocbuild/BBS/utils/build-universal.sh OutSplice_1.2.0.tar.gz /Library/Frameworks/R.framework/Resources/bin/R OutSplice.buildbin-libdir StartedAt: 2024-04-18 10:30:06 -0400 (Thu, 18 Apr 2024) EndedAt: 2024-04-18 10:31:18 -0400 (Thu, 18 Apr 2024) EllapsedTime: 71.6 seconds RetCode: 0 Status: OK PackageFile: OutSplice_1.2.0.tgz PackageFileSize: 3.904 MiB