Package: OutSplice Version: 1.2.0 Command: /Library/Frameworks/R.framework/Resources/bin/R CMD INSTALL OutSplice StartedAt: 2024-04-16 12:20:16 -0400 (Tue, 16 Apr 2024) EndedAt: 2024-04-16 12:21:13 -0400 (Tue, 16 Apr 2024) EllapsedTime: 57.0 seconds RetCode: 0 Status: OK