Package: PFP Version: 1.10.0 Command: /Library/Frameworks/R.framework/Resources/bin/R CMD build --keep-empty-dirs --no-resave-data PFP StartedAt: 2024-04-16 23:40:02 -0400 (Tue, 16 Apr 2024) EndedAt: 2024-04-16 23:41:08 -0400 (Tue, 16 Apr 2024) EllapsedTime: 66.3 seconds RetCode: 1 Status: ERROR PackageFile: None PackageFileSize: NA