Package: PING Version: 2.46.0 Command: /Library/Frameworks/R.framework/Resources/bin/R CMD INSTALL PING StartedAt: 2024-04-16 12:53:41 -0400 (Tue, 16 Apr 2024) EndedAt: 2024-04-16 12:54:54 -0400 (Tue, 16 Apr 2024) EllapsedTime: 72.6 seconds RetCode: 0 Status: OK