Package: PhosR Version: 1.12.0 Command: /Library/Frameworks/R.framework/Resources/bin/R CMD check --install=check:PhosR.install-out.txt --library=/Library/Frameworks/R.framework/Resources/library --no-vignettes --timings PhosR_1.12.0.tar.gz StartedAt: 2024-04-17 23:03:43 -0400 (Wed, 17 Apr 2024) EndedAt: 2024-04-17 23:10:10 -0400 (Wed, 17 Apr 2024) EllapsedTime: 387.2 seconds RetCode: 0 Status: OK CheckDir: PhosR.Rcheck Warnings: 0