Package: PoDCall Version: 1.10.1 Command: /Library/Frameworks/R.framework/Resources/bin/R CMD build --keep-empty-dirs --no-resave-data PoDCall StartedAt: 2024-04-16 23:51:46 -0400 (Tue, 16 Apr 2024) EndedAt: 2024-04-16 23:52:11 -0400 (Tue, 16 Apr 2024) EllapsedTime: 24.9 seconds RetCode: 0 Status: OK PackageFile: PoDCall_1.10.1.tar.gz PackageFileSize: 3.04 MiB