Package: ProteoMM Version: 1.20.0 Command: rm -rf ProteoMM.buildbin-libdir && mkdir ProteoMM.buildbin-libdir && /Users/biocbuild/BBS/utils/build-universal.sh ProteoMM_1.20.0.tar.gz /Library/Frameworks/R.framework/Resources/bin/R ProteoMM.buildbin-libdir StartedAt: 2024-04-18 10:39:52 -0400 (Thu, 18 Apr 2024) EndedAt: 2024-04-18 10:40:01 -0400 (Thu, 18 Apr 2024) EllapsedTime: 9.2 seconds RetCode: 0 Status: OK PackageFile: ProteoMM_1.20.0.tgz PackageFileSize: 629.2 KiB