Package: RBGL Version: 1.78.0 Command: rm -rf RBGL.buildbin-libdir && mkdir RBGL.buildbin-libdir && /Users/biocbuild/BBS/utils/build-universal.sh RBGL_1.78.0.tar.gz /Library/Frameworks/R.framework/Resources/bin/R RBGL.buildbin-libdir StartedAt: 2024-04-18 10:45:20 -0400 (Thu, 18 Apr 2024) EndedAt: 2024-04-18 10:47:18 -0400 (Thu, 18 Apr 2024) EllapsedTime: 118.3 seconds RetCode: 0 Status: OK PackageFile: RBGL_1.78.0.tgz PackageFileSize: 3.365 MiB