Package: RBioinf
Version: 1.62.0
Command: /Library/Frameworks/R.framework/Resources/bin/R CMD build --keep-empty-dirs --no-resave-data RBioinf
StartedAt: 2024-04-17 00:33:00 -0400 (Wed, 17 Apr 2024)
EndedAt: 2024-04-17 00:33:19 -0400 (Wed, 17 Apr 2024)
EllapsedTime: 19.1 seconds
RetCode: 0
Status: OK
PackageFile: RBioinf_1.62.0.tar.gz
PackageFileSize: 3.544 <A href="http://en.wikipedia.org/wiki/MiB" target="_blank">MiB</A>