Package: RCASPAR Version: 1.48.0 Command: /Library/Frameworks/R.framework/Resources/bin/R CMD build --keep-empty-dirs --no-resave-data RCASPAR StartedAt: 2024-04-17 00:35:08 -0400 (Wed, 17 Apr 2024) EndedAt: 2024-04-17 00:35:18 -0400 (Wed, 17 Apr 2024) EllapsedTime: 10.3 seconds RetCode: 0 Status: OK PackageFile: RCASPAR_1.48.0.tar.gz PackageFileSize: 305 KiB