Package: RJMCMCNucleosomes Version: 1.26.0 Command: /Library/Frameworks/R.framework/Resources/bin/R CMD INSTALL RJMCMCNucleosomes StartedAt: 2024-04-16 10:53:40 -0400 (Tue, 16 Apr 2024) EndedAt: 2024-04-16 10:54:40 -0400 (Tue, 16 Apr 2024) EllapsedTime: 60.3 seconds RetCode: 0 Status: OK