Package: RNAmodR.AlkAnilineSeq Version: 1.16.0 Command: /Library/Frameworks/R.framework/Resources/bin/R CMD build --keep-empty-dirs --no-resave-data RNAmodR.AlkAnilineSeq StartedAt: 2024-04-17 01:14:37 -0400 (Wed, 17 Apr 2024) EndedAt: 2024-04-17 01:17:33 -0400 (Wed, 17 Apr 2024) EllapsedTime: 176.1 seconds RetCode: 0 Status: OK PackageFile: RNAmodR.AlkAnilineSeq_1.16.0.tar.gz PackageFileSize: 1.04 MiB