Package: RTCGAToolbox Version: 2.32.1 Command: /Library/Frameworks/R.framework/Resources/bin/R CMD INSTALL RTCGAToolbox StartedAt: 2024-04-16 11:19:11 -0400 (Tue, 16 Apr 2024) EndedAt: 2024-04-16 11:19:42 -0400 (Tue, 16 Apr 2024) EllapsedTime: 31.2 seconds RetCode: 0 Status: OK