Package: RcwlPipelines Version: 1.18.1 Command: /Library/Frameworks/R.framework/Resources/bin/R CMD build --keep-empty-dirs --no-resave-data RcwlPipelines StartedAt: 2024-04-17 00:38:07 -0400 (Wed, 17 Apr 2024) EndedAt: 2024-04-17 00:38:54 -0400 (Wed, 17 Apr 2024) EllapsedTime: 46.4 seconds RetCode: 0 Status: OK PackageFile: RcwlPipelines_1.18.1.tar.gz PackageFileSize: 877.3 KiB