Package: ReadqPCR Version: 1.48.0 Command: rm -rf ReadqPCR.buildbin-libdir && mkdir ReadqPCR.buildbin-libdir && /Users/biocbuild/BBS/utils/build-universal.sh ReadqPCR_1.48.0.tar.gz /Library/Frameworks/R.framework/Resources/bin/R ReadqPCR.buildbin-libdir StartedAt: 2024-04-18 10:47:44 -0400 (Thu, 18 Apr 2024) EndedAt: 2024-04-18 10:47:51 -0400 (Thu, 18 Apr 2024) EllapsedTime: 6.8 seconds RetCode: 0 Status: OK PackageFile: ReadqPCR_1.48.0.tgz PackageFileSize: 566.9 KiB