Package: RedisParam Version: 1.4.0 Command: rm -rf RedisParam.buildbin-libdir && mkdir RedisParam.buildbin-libdir && /Users/biocbuild/BBS/utils/build-universal.sh RedisParam_1.4.0.tar.gz /Library/Frameworks/R.framework/Resources/bin/R RedisParam.buildbin-libdir StartedAt: 2024-04-18 10:48:20 -0400 (Thu, 18 Apr 2024) EndedAt: 2024-04-18 10:48:27 -0400 (Thu, 18 Apr 2024) EllapsedTime: 6.9 seconds RetCode: 0 Status: OK PackageFile: RedisParam_1.4.0.tgz PackageFileSize: 1.004 MiB