Package: RegEnrich Version: 1.12.1 Command: /Library/Frameworks/R.framework/Resources/bin/R CMD check --install=check:RegEnrich.install-out.txt --library=/Library/Frameworks/R.framework/Resources/library --no-vignettes --timings RegEnrich_1.12.1.tar.gz StartedAt: 2024-04-18 00:44:34 -0400 (Thu, 18 Apr 2024) EndedAt: 2024-04-18 00:50:13 -0400 (Thu, 18 Apr 2024) EllapsedTime: 339.5 seconds RetCode: 0 Status: OK CheckDir: RegEnrich.Rcheck Warnings: 0