Package: RiboDiPA Version: 1.10.0 Command: /Library/Frameworks/R.framework/Resources/bin/R CMD INSTALL RiboDiPA StartedAt: 2024-04-16 11:07:07 -0400 (Tue, 16 Apr 2024) EndedAt: 2024-04-16 11:08:15 -0400 (Tue, 16 Apr 2024) EllapsedTime: 67.7 seconds RetCode: 0 Status: OK