Package: Rmagpie Version: 1.58.0 Command: rm -rf Rmagpie.buildbin-libdir && mkdir Rmagpie.buildbin-libdir && /Users/biocbuild/BBS/utils/build-universal.sh Rmagpie_1.58.0.tar.gz /Library/Frameworks/R.framework/Resources/bin/R Rmagpie.buildbin-libdir StartedAt: 2024-04-18 10:57:05 -0400 (Thu, 18 Apr 2024) EndedAt: 2024-04-18 10:57:24 -0400 (Thu, 18 Apr 2024) EllapsedTime: 19.2 seconds RetCode: 0 Status: OK PackageFile: Rmagpie_1.58.0.tgz PackageFileSize: 858.7 KiB