Package: Rmmquant Version: 1.20.0 Command: /Library/Frameworks/R.framework/Resources/bin/R CMD build --keep-empty-dirs --no-resave-data Rmmquant StartedAt: 2024-04-17 01:11:18 -0400 (Wed, 17 Apr 2024) EndedAt: 2024-04-17 01:12:57 -0400 (Wed, 17 Apr 2024) EllapsedTime: 99.2 seconds RetCode: 0 Status: OK PackageFile: Rmmquant_1.20.0.tar.gz PackageFileSize: 45.25 KiB