Package: Rmmquant Version: 1.20.0 Command: /Library/Frameworks/R.framework/Resources/bin/R CMD check --install=check:Rmmquant.install-out.txt --library=/Library/Frameworks/R.framework/Resources/library --no-vignettes --timings Rmmquant_1.20.0.tar.gz StartedAt: 2024-04-18 01:33:54 -0400 (Thu, 18 Apr 2024) EndedAt: 2024-04-18 01:40:49 -0400 (Thu, 18 Apr 2024) EllapsedTime: 414.6 seconds RetCode: 0 Status: OK CheckDir: Rmmquant.Rcheck Warnings: 0