Package: SBGNview Version: 1.16.0 Command: /Library/Frameworks/R.framework/Resources/bin/R CMD build --keep-empty-dirs --no-resave-data SBGNview StartedAt: 2024-04-17 01:39:00 -0400 (Wed, 17 Apr 2024) EndedAt: 2024-04-17 01:41:32 -0400 (Wed, 17 Apr 2024) EllapsedTime: 151.9 seconds RetCode: 0 Status: OK PackageFile: SBGNview_1.16.0.tar.gz PackageFileSize: 1.676 MiB