Package: SBGNview Version: 1.16.0 Command: /Library/Frameworks/R.framework/Resources/bin/R CMD check --install=check:SBGNview.install-out.txt --library=/Library/Frameworks/R.framework/Resources/library --no-vignettes --timings SBGNview_1.16.0.tar.gz StartedAt: 2024-04-18 02:28:18 -0400 (Thu, 18 Apr 2024) EndedAt: 2024-04-18 02:34:19 -0400 (Thu, 18 Apr 2024) EllapsedTime: 360.7 seconds RetCode: 0 Status: OK CheckDir: SBGNview.Rcheck Warnings: 0