Package: SCANVIS Version: 1.16.0 Command: /Library/Frameworks/R.framework/Resources/bin/R CMD build --keep-empty-dirs --no-resave-data SCANVIS StartedAt: 2024-04-17 01:43:05 -0400 (Wed, 17 Apr 2024) EndedAt: 2024-04-17 01:44:08 -0400 (Wed, 17 Apr 2024) EllapsedTime: 63.2 seconds RetCode: 0 Status: OK PackageFile: SCANVIS_1.16.0.tar.gz PackageFileSize: 469.5 KiB