Package: SIMD Version: 1.20.0 Command: rm -rf SIMD.buildbin-libdir && mkdir SIMD.buildbin-libdir && /Users/biocbuild/BBS/utils/build-universal.sh SIMD_1.20.0.tar.gz /Library/Frameworks/R.framework/Resources/bin/R SIMD.buildbin-libdir StartedAt: 2024-04-18 11:18:45 -0400 (Thu, 18 Apr 2024) EndedAt: 2024-04-18 11:18:52 -0400 (Thu, 18 Apr 2024) EllapsedTime: 6.9 seconds RetCode: 0 Status: OK PackageFile: SIMD_1.20.0.tgz PackageFileSize: 376.6 KiB