Package: SMITE Version: 1.30.0 Command: rm -rf SMITE.buildbin-libdir && mkdir SMITE.buildbin-libdir && /Users/biocbuild/BBS/utils/build-universal.sh SMITE_1.30.0.tar.gz /Library/Frameworks/R.framework/Resources/bin/R SMITE.buildbin-libdir StartedAt: 2024-04-18 11:21:50 -0400 (Thu, 18 Apr 2024) EndedAt: 2024-04-18 11:23:00 -0400 (Thu, 18 Apr 2024) EllapsedTime: 70.3 seconds RetCode: 0 Status: OK PackageFile: SMITE_1.30.0.tgz PackageFileSize: 3.61 MiB