Package: SMITE Version: 1.30.0 Command: /Library/Frameworks/R.framework/Resources/bin/R CMD check --install=check:SMITE.install-out.txt --library=/Library/Frameworks/R.framework/Resources/library --no-vignettes --timings SMITE_1.30.0.tar.gz StartedAt: 2024-04-18 04:23:49 -0400 (Thu, 18 Apr 2024) EndedAt: 2024-04-18 04:29:57 -0400 (Thu, 18 Apr 2024) EllapsedTime: 367.9 seconds RetCode: 0 Status: OK CheckDir: SMITE.Rcheck Warnings: 0