Package: SMITE Version: 1.30.0 Command: /Library/Frameworks/R.framework/Resources/bin/R CMD INSTALL SMITE StartedAt: 2024-04-16 11:30:21 -0400 (Tue, 16 Apr 2024) EndedAt: 2024-04-16 11:31:17 -0400 (Tue, 16 Apr 2024) EllapsedTime: 55.9 seconds RetCode: 0 Status: OK