Package: SPEM Version: 1.42.0 Command: /Library/Frameworks/R.framework/Resources/bin/R CMD check --install=check:SPEM.install-out.txt --library=/Library/Frameworks/R.framework/Resources/library --no-vignettes --timings SPEM_1.42.0.tar.gz StartedAt: 2024-04-18 04:58:20 -0400 (Thu, 18 Apr 2024) EndedAt: 2024-04-18 04:59:01 -0400 (Thu, 18 Apr 2024) EllapsedTime: 41.4 seconds RetCode: 0 Status: OK CheckDir: SPEM.Rcheck Warnings: 0