Package: SPIA Version: 2.54.0 Command: rm -rf SPIA.buildbin-libdir && mkdir SPIA.buildbin-libdir && /Users/biocbuild/BBS/utils/build-universal.sh SPIA_2.54.0.tar.gz /Library/Frameworks/R.framework/Resources/bin/R SPIA.buildbin-libdir StartedAt: 2024-04-18 11:25:03 -0400 (Thu, 18 Apr 2024) EndedAt: 2024-04-18 11:25:12 -0400 (Thu, 18 Apr 2024) EllapsedTime: 9.1 seconds RetCode: 0 Status: OK PackageFile: SPIA_2.54.0.tgz PackageFileSize: 2.536 MiB